BEGIN:VCALENDAR
VERSION:2.0
PRODID:-//gyorifoci.hu//HU
CALSCALE:GREGORIAN
METHOD:PUBLISH
BEGIN:VEVENT
UID:match-1909@gyorifoci.hu
DTSTAMP:20260424T113043Z
DTSTART:20260428T190000
SUMMARY:Gólsöröm FC vs Batyi FC
LOCATION:Kazinczy pálya
END:VEVENT
END:VCALENDAR
