BEGIN:VCALENDAR
VERSION:2.0
PRODID:-//gyorifoci.hu//HU
CALSCALE:GREGORIAN
METHOD:PUBLISH
BEGIN:VEVENT
UID:match-1748@gyorifoci.hu
DTSTAMP:20260424T113119Z
DTSTART:20260428T190000
SUMMARY:StipiStopli vs Maddox FC
LOCATION:Barátság park - Center
END:VEVENT
END:VCALENDAR
