BEGIN:VCALENDAR
VERSION:2.0
PRODID:-//gyorifoci.hu//HU
CALSCALE:GREGORIAN
METHOD:PUBLISH
BEGIN:VEVENT
UID:match-1747@gyorifoci.hu
DTSTAMP:20260424T113027Z
DTSTART:20260429T180000
SUMMARY:Dinamó vs Dream Team '98 FC
LOCATION:Barátság park - 1. pálya
END:VEVENT
END:VCALENDAR
