BEGIN:VCALENDAR
VERSION:2.0
PRODID:-//gyorifoci.hu//HU
CALSCALE:GREGORIAN
METHOD:PUBLISH
BEGIN:VEVENT
UID:match-1745@gyorifoci.hu
DTSTAMP:20260423T115516Z
DTSTART:20260423T190000
SUMMARY:Gólsöröm FC vs E-R TEAM HSE
LOCATION:Kazinczy pálya
END:VEVENT
END:VCALENDAR
