BEGIN:VCALENDAR
VERSION:2.0
PRODID:-//gyorifoci.hu//HU
CALSCALE:GREGORIAN
METHOD:PUBLISH
BEGIN:VEVENT
UID:match-1744@gyorifoci.hu
DTSTAMP:20260424T112949Z
DTSTART:20260424T190000
SUMMARY:Maholka Punki vs StipiStopli
LOCATION:Barátság park - 2. pálya
END:VEVENT
END:VCALENDAR
