BEGIN:VCALENDAR
VERSION:2.0
PRODID:-//gyorifoci.hu//HU
CALSCALE:GREGORIAN
METHOD:PUBLISH
BEGIN:VEVENT
UID:match-1743@gyorifoci.hu
DTSTAMP:20260423T115655Z
DTSTART:20260423T200000
SUMMARY:Toka Juniors vs Dream Team '98 FC
LOCATION:Krúdy pálya
END:VEVENT
END:VCALENDAR
