BEGIN:VCALENDAR
VERSION:2.0
PRODID:-//gyorifoci.hu//HU
CALSCALE:GREGORIAN
METHOD:PUBLISH
BEGIN:VEVENT
UID:match-1742@gyorifoci.hu
DTSTAMP:20260422T095936Z
DTSTART:20260423T180000
SUMMARY:EAST GREAT FALLS vs Dinamó
LOCATION:Barátság park - 1. pálya
END:VEVENT
END:VCALENDAR
