BEGIN:VCALENDAR
VERSION:2.0
PRODID:-//gyorifoci.hu//HU
CALSCALE:GREGORIAN
METHOD:PUBLISH
BEGIN:VEVENT
UID:match-1673@gyorifoci.hu
DTSTAMP:20260422T095802Z
DTSTART:20260423T180000
SUMMARY:BOCAPASS vs FC MHR
LOCATION:Barátság park - 2. pálya
END:VEVENT
END:VCALENDAR
