BEGIN:VCALENDAR
VERSION:2.0
PRODID:-//gyorifoci.hu//HU
CALSCALE:GREGORIAN
METHOD:PUBLISH
BEGIN:VEVENT
UID:match-1671@gyorifoci.hu
DTSTAMP:20260422T100345Z
DTSTART:20260423T190000
SUMMARY:B 73 vs Pedagógus
LOCATION:Krúdy pálya
END:VEVENT
END:VCALENDAR
