BEGIN:VCALENDAR
VERSION:2.0
PRODID:-//gyorifoci.hu//HU
CALSCALE:GREGORIAN
METHOD:PUBLISH
BEGIN:VEVENT
UID:match-1526@gyorifoci.hu
DTSTAMP:20260424T113118Z
DTSTART:20260427T180000
SUMMARY:Prolik vs VT-VILL FC
LOCATION:Kazinczy pálya
END:VEVENT
END:VCALENDAR
