BEGIN:VCALENDAR
VERSION:2.0
PRODID:-//gyorifoci.hu//HU
CALSCALE:GREGORIAN
METHOD:PUBLISH
BEGIN:VEVENT
UID:match-1523@gyorifoci.hu
DTSTAMP:20260424T112916Z
DTSTART:20260427T190000
SUMMARY:NO PASS vs Suta FC
LOCATION:Barátság park - Center
END:VEVENT
END:VCALENDAR
