BEGIN:VCALENDAR
VERSION:2.0
PRODID:-//gyorifoci.hu//HU
CALSCALE:GREGORIAN
METHOD:PUBLISH
BEGIN:VEVENT
UID:match-1512@gyorifoci.hu
DTSTAMP:20260421T103651Z
DTSTART:20260422T190000
SUMMARY:VT-VILL FC vs HGM Control
LOCATION:Krúdy pálya
END:VEVENT
END:VCALENDAR
