BEGIN:VCALENDAR
VERSION:2.0
PRODID:-//gyorifoci.hu//HU
CALSCALE:GREGORIAN
METHOD:PUBLISH
BEGIN:VEVENT
UID:match-1500@gyorifoci.hu
DTSTAMP:20260424T113204Z
DTSTART:20260428T190000
SUMMARY:HGM Control vs Cageball Crew
LOCATION:Bercsényi liget
END:VEVENT
END:VCALENDAR
