BEGIN:VCALENDAR
VERSION:2.0
PRODID:-//gyorifoci.hu//HU
CALSCALE:GREGORIAN
METHOD:PUBLISH
BEGIN:VEVENT
UID:match-1495@gyorifoci.hu
DTSTAMP:20260422T095802Z
DTSTART:20260422T200000
SUMMARY:Bálnák vs Last MAN Standing
LOCATION:Bercsényi liget
END:VEVENT
END:VCALENDAR
