BEGIN:VCALENDAR
VERSION:2.0
PRODID:-//gyorifoci.hu//HU
CALSCALE:GREGORIAN
METHOD:PUBLISH
BEGIN:VEVENT
UID:match-1488@gyorifoci.hu
DTSTAMP:20260421T103857Z
DTSTART:20260422T190000
SUMMARY:ANGELS vs NO PASS
LOCATION:Kazinczy pálya
END:VEVENT
END:VCALENDAR
