BEGIN:VCALENDAR
VERSION:2.0
PRODID:-//gyorifoci.hu//HU
CALSCALE:GREGORIAN
METHOD:PUBLISH
BEGIN:VEVENT
UID:match-1422@gyorifoci.hu
DTSTAMP:20260422T095807Z
DTSTART:20260422T200000
SUMMARY:Vipinfo vs Hard-Tech FC
LOCATION:Aréna
END:VEVENT
END:VCALENDAR
