BEGIN:VCALENDAR
VERSION:2.0
PRODID:-//gyorifoci.hu//HU
CALSCALE:GREGORIAN
METHOD:PUBLISH
BEGIN:VEVENT
UID:match-1404@gyorifoci.hu
DTSTAMP:20260424T112938Z
DTSTART:20260429T190000
SUMMARY:Alumen vs Iván Kampó NSC
LOCATION:Barátság park - 1. pálya
END:VEVENT
END:VCALENDAR
