BEGIN:VCALENDAR
VERSION:2.0
PRODID:-//gyorifoci.hu//HU
CALSCALE:GREGORIAN
METHOD:PUBLISH
BEGIN:VEVENT
UID:match-1386@gyorifoci.hu
DTSTAMP:20260424T113308Z
DTSTART:20260424T190000
SUMMARY:Vipinfo vs OSMA.HU
LOCATION:Aréna
END:VEVENT
END:VCALENDAR
