BEGIN:VCALENDAR
VERSION:2.0
PRODID:-//gyorifoci.hu//HU
CALSCALE:GREGORIAN
METHOD:PUBLISH
BEGIN:VEVENT
UID:match-1366@gyorifoci.hu
DTSTAMP:20260421T103851Z
DTSTART:20260422T200000
SUMMARY:Babilon SC vs Iván Kampó NSC
LOCATION:Barátság park - Center
END:VEVENT
END:VCALENDAR
