BEGIN:VCALENDAR
VERSION:2.0
PRODID:-//gyorifoci.hu//HU
CALSCALE:GREGORIAN
METHOD:PUBLISH
BEGIN:VEVENT
UID:match-1262@gyorifoci.hu
DTSTAMP:20260423T115649Z
DTSTART:20260423T200000
SUMMARY:Meztelencsigák vs Kuglóf Cukrászda
LOCATION:Barátság park - 2. pálya
END:VEVENT
END:VCALENDAR
