BEGIN:VCALENDAR
VERSION:2.0
PRODID:-//gyorifoci.hu//HU
CALSCALE:GREGORIAN
METHOD:PUBLISH
BEGIN:VEVENT
UID:match-1257@gyorifoci.hu
DTSTAMP:20260423T115557Z
DTSTART:20260423T190000
SUMMARY:ISOL-2000 vs Nostra Casa Kft
LOCATION:Barátság park - 2. pálya
END:VEVENT
END:VCALENDAR
