BEGIN:VCALENDAR
VERSION:2.0
PRODID:-//gyorifoci.hu//HU
CALSCALE:GREGORIAN
METHOD:PUBLISH
BEGIN:VEVENT
UID:match-1248@gyorifoci.hu
DTSTAMP:20260423T115426Z
DTSTART:20260423T190000
SUMMARY:MezSport FC vs Félgőz
LOCATION:Barátság park - 1. pálya
END:VEVENT
END:VCALENDAR
