BEGIN:VCALENDAR
VERSION:2.0
PRODID:-//gyorifoci.hu//HU
CALSCALE:GREGORIAN
METHOD:PUBLISH
BEGIN:VEVENT
UID:match-1234@gyorifoci.hu
DTSTAMP:20260423T115527Z
DTSTART:20260423T200000
SUMMARY:Cső-Lavina vs Park-Válogatott
LOCATION:Barátság park - 1. pálya
END:VEVENT
END:VCALENDAR
