BEGIN:VCALENDAR
VERSION:2.0
PRODID:-//gyorifoci.hu//HU
CALSCALE:GREGORIAN
METHOD:PUBLISH
BEGIN:VEVENT
UID:match-1226@gyorifoci.hu
DTSTAMP:20260423T115618Z
DTSTART:20260423T200000
SUMMARY:Bauart 2002 vs Unicentrál
LOCATION:Barátság park - Center
END:VEVENT
END:VCALENDAR
